BEGIN:VCALENDAR
VERSION:2.0
PRODID:-//Volt Europa//Events//EN
CALSCALE:GREGORIAN
METHOD:PUBLISH
BEGIN:VEVENT
UID:eu-stoettemidler-seminar-paa-bornholm-18-oktober-1729245600@voltdanmark
 .org
DTSTAMP:20260422T071039Z
DTSTART;TZID=Europe/Copenhagen:20241018T120000
DTEND;TZID=Europe/Copenhagen:20241018T160000
SUMMARY:EU Støttemidler - Seminar på Bornholm\, 18. Oktober
DESCRIPTION:Volt Danmark besøger Bornholm igen. Siden 2021 har bornholmske
  projekter modtaget omkring 130 millioner kroner i EU-støtte. Det kommunal
 e europakontor har knækket koden til at ansøge om midler - nu vil de gern
 e lære dig at gøre det samme. Tag med Volt Danmark på road trip til et g
 ratis seminar den 18. Oktober og bliv undervist af bl.a. Niels Chresten And
 ersen\, direktør for Europe Direct Bornholm. Tilmelding: per email til  to
 nny.wichmann@volteuropa.org  thor.larholm@volteuropa.org  Tid og sted: 
LOCATION:Snorrebakken 66\, 3700 Rønne
URL:https://voltdanmark.org/begivenheder/eu-stoettemidler-seminar-paa-bornh
 olm-18-oktober
END:VEVENT
END:VCALENDAR
