BEGIN:VCALENDAR
VERSION:2.0
PRODID:-//Volt Europa//Events//EN
CALSCALE:GREGORIAN
METHOD:PUBLISH
BEGIN:VEVENT
UID:mariager2024-1717225200@voltdanmark.org
DTSTAMP:20260425T110155Z
DTSTART;TZID=Europe/Copenhagen:20240601T090000
DTEND;TZID=Europe/Copenhagen:20240601T180000
SUMMARY:Volt til Europa Folkemøde
DESCRIPTION:Volt er dit europaparti og vi har brug for ét! Volt er på  pr
 ogrammet i Mariager til 4 emner \, der rammer bredt! kl. 11:00 - 11:45 - Bi
 odiversitet i Europa - Biografscenen kl. 13:00 - 13:45 - Dansk aktivistisk 
 udenrigspolitik - succes eller fiasko? - Postgårdscenen kl. 14:00 - 14:45 
 - EU og Digitalsikkerhed - realisme eller ønsketænkning - Postgårdscenen
  kl. 15:00 - 15:45 - Interne spændinger i Europa - polariseringernes pris 
 - Postgårdscenen Volt er opstillet til EU-valget i 15 lande og har det
LOCATION:Mariager
URL:https://voltdanmark.org/begivenheder/mariager2024
END:VEVENT
END:VCALENDAR
