BEGIN:VCALENDAR
VERSION:2.0
PRODID:-//Volt Europa//Events//EN
CALSCALE:GREGORIAN
METHOD:PUBLISH
BEGIN:VEVENT
UID:folkemoedet-1749715200@voltdanmark.org
DTSTAMP:20260425T161619Z
DTSTART;TZID=Europe/Copenhagen:20250612T100000
DTEND;TZID=Europe/Copenhagen:20250614T170000
SUMMARY:Folkemødet
DESCRIPTION:En gang om året trækker forandringsskaberne til Danmarks stø
 rste demokratifestival for at skabe opmærksomhed og engagere sig i debat. 
 I år leverer vi brændende platforme til dig lige fra politisk ungdom over
  europæiske identiteter til grænseoverskridende offentlig transport\, bla
 ndt meget mere. Find os på Folkemødet.
LOCATION:Allinge\, Bornholm
URL:https://voltdanmark.org/begivenheder/folkemoedet
END:VEVENT
END:VCALENDAR
