BEGIN:VCALENDAR
VERSION:2.0
PRODID:-//Volt Europa//Events//EN
CALSCALE:GREGORIAN
METHOD:PUBLISH
BEGIN:VEVENT
UID:futurefarming-ep24-1715182200@voltdanmark.org
DTSTAMP:20260425T161620Z
DTSTART;TZID=Europe/Copenhagen:20240508T173000
DTEND;TZID=Europe/Copenhagen:20240508T200000
SUMMARY:Debate: Future of Farming in Europe
DESCRIPTION:Klimaaktivister er blevet overtaget af traktorer\, når landmæ
 nd går på gaden på grund af lovændringer\, der ellers skal imødegå de
 t industrialiserede landbrugs klimapåvirkning. Den 8. maj vil vi i Frederi
 ksberg Rådhuskælder tale om\, hvordan vi ønsker en ny tidsalder for land
 brug\, fødevaresikkerhed\, jordbeskyttelse\, hvad innovation i landbruget 
 egentlig betyder\, og hvad EU's rolle bør være. Det næste Europa-Parlame
 nt bliver nødt til at håndtere den fælles landbrugsplan (CAP) og foresti
 lle sig nye m
LOCATION:Frederikberg Rådhuskælder\, Smallegade 1\, Frederiksberg
URL:https://voltdanmark.org/begivenheder/futurefarming-ep24
END:VEVENT
END:VCALENDAR
