BEGIN:VCALENDAR
VERSION:2.0
PRODID:-//Volt Europa//Events//EN
CALSCALE:GREGORIAN
METHOD:PUBLISH
BEGIN:VEVENT
UID:meetup-roenne-01062024-1717228800@voltdanmark.org
DTSTAMP:20260425T193442Z
DTSTART;TZID=Europe/Copenhagen:20240601T100000
DTEND;TZID=Europe/Copenhagen:20240601T180000
SUMMARY:Volt Meet & Greet - Rønne
DESCRIPTION:Volt er dit europparti og vi har brug for ét! Volt er opstille
 t til EU-valget i 15 lande og har det samme valgprogram i hele Europa. Volt
  blev grundlagt\, fordi vi lever i en verden\, hvor ingen national regering
  kan løse grænseoverskridende udfordringer alene. Vi har stærkere sammen
  og derfor er det Volt\, som det eneste paneuropæiske parti\, der går for
 an med et godt eksempel: Med ét politisk program stiller vi op til dette v
 alg til Europa-Parlamentet for at forbinde bedste praksis over hele konti
LOCATION:Store Torv\, Rønne
URL:https://voltdanmark.org/begivenheder/meetup-roenne-01062024
END:VEVENT
END:VCALENDAR
